BEGIN:VCALENDAR
VERSION:2.0
PRODID:-//diffus.space - ECPv6.15.12.2//NONSGML v1.0//EN
CALSCALE:GREGORIAN
METHOD:PUBLISH
X-ORIGINAL-URL:https://diffus.space
X-WR-CALDESC:Veranstaltungen für diffus.space
REFRESH-INTERVAL;VALUE=DURATION:PT1H
X-Robots-Tag:noindex
X-PUBLISHED-TTL:PT1H
BEGIN:VTIMEZONE
TZID:UTC
BEGIN:STANDARD
TZOFFSETFROM:+0000
TZOFFSETTO:+0000
TZNAME:UTC
DTSTART:20230101T000000
END:STANDARD
END:VTIMEZONE
BEGIN:VEVENT
DTSTART;TZID=UTC:20241018T200000
DTEND;TZID=UTC:20241018T220000
DTSTAMP:20260424T231555
CREATED:20241002T103019Z
LAST-MODIFIED:20241009T063353Z
UID:72-1729281600-1729288800@diffus.space
SUMMARY:Konzert: Befratim
DESCRIPTION:Jump on the funktrain 😀 \nFriday 18.10. Befratim will roll into diffus.space \nZur Musik: https://www.youtube.com/watch?v=BKoUqrhidxs
URL:https://diffus.space/event/konzert-befratim/
LOCATION:diffus.space\, Viktoriastraße 18\, Aachen\, 52066\, Germany
ATTACH;FMTTYPE=image/png:https://diffus.space/wp-content/uploads/2024/10/Screenshot-2024-10-02-at-14-28-08-Befratim-@befratim_band-•-Instagram-Fotos-und-Videos.png
END:VEVENT
END:VCALENDAR