BEGIN:VCALENDAR
VERSION:2.0
PRODID:-//diffus.space - ECPv6.15.12.2//NONSGML v1.0//EN
CALSCALE:GREGORIAN
METHOD:PUBLISH
X-ORIGINAL-URL:https://diffus.space
X-WR-CALDESC:Veranstaltungen für diffus.space
REFRESH-INTERVAL;VALUE=DURATION:PT1H
X-Robots-Tag:noindex
X-PUBLISHED-TTL:PT1H
BEGIN:VTIMEZONE
TZID:UTC
BEGIN:STANDARD
TZOFFSETFROM:+0000
TZOFFSETTO:+0000
TZNAME:UTC
DTSTART:20230101T000000
END:STANDARD
END:VTIMEZONE
BEGIN:VEVENT
DTSTART;TZID=UTC:20241110T140000
DTEND;TZID=UTC:20241110T170000
DTSTAMP:20260424T194902
CREATED:20241104T170317Z
LAST-MODIFIED:20241104T170317Z
UID:121-1731247200-1731258000@diffus.space
SUMMARY:Workshop Stimme.Körper.Atem
DESCRIPTION:„Wie kann ich meine Sprech- und Singstimme gesund halten?“ \n„Wie kann ich mich ganz persönlich mit meiner Stimme ausdrücken?“ \n„Wie kann ich Körper\, Stimme und Atmung in Verbindung bringen?“ \nIch bin Stimm- & Sprachtherapeutin und Gesangspädagogin. Im Workshop lernt ihr in praktischen Übungen\, wie ihr eure Sprech- und Singstimme gesund halten könnt und wie eure Stimme mit eurer Atmung\, Körperhaltung und Persönlichkeit zusammenhängt. \nVorkenntnisse braucht ihr keine. \nIch freue mich riesig\, wenn ihr dabei seid! \nAnmeldungen an: https://www.instagram.com/sarah_malouu/
URL:https://diffus.space/event/workshop-stimme-koerper-atem/
LOCATION:diffus.space\, Viktoriastraße 18\, Aachen\, 52066\, Germany
ATTACH;FMTTYPE=image/jpeg:https://diffus.space/wp-content/uploads/2024/11/Stimmworkshop_Diffus_Nov.24_vorne.jpg
ORGANIZER;CN="diffus.space e.V.":MAILTO:info@diffus.space
END:VEVENT
END:VCALENDAR