BEGIN:VCALENDAR
VERSION:2.0
PRODID:-//diffus.space - ECPv6.15.12.2//NONSGML v1.0//EN
CALSCALE:GREGORIAN
METHOD:PUBLISH
X-WR-CALNAME:diffus.space
X-ORIGINAL-URL:https://diffus.space
X-WR-CALDESC:Veranstaltungen für diffus.space
REFRESH-INTERVAL;VALUE=DURATION:PT1H
X-Robots-Tag:noindex
X-PUBLISHED-TTL:PT1H
BEGIN:VTIMEZONE
TZID:UTC
BEGIN:STANDARD
TZOFFSETFROM:+0000
TZOFFSETTO:+0000
TZNAME:UTC
DTSTART:20230101T000000
END:STANDARD
END:VTIMEZONE
BEGIN:VEVENT
DTSTART;TZID=UTC:20241117T160000
DTEND;TZID=UTC:20241117T190000
DTSTAMP:20260424T231212
CREATED:20241107T120359Z
LAST-MODIFIED:20241107T120359Z
UID:124-1731859200-1731870000@diffus.space
SUMMARY:Watch & Talk: We should all be Feminists
DESCRIPTION:Let’s talk about Feminism! ✊💬 \nAls Aufhänger nutzen wir den TED Talk „We Should All Be Feminists“ der nigerianischen Autorin und Aktivistin Chimamanda Ngozi Adichie\, den sie 2012 in London (Euston) hielt. Der Vortrag gewann besondere popkulturelle Bedeutung\, als Beyoncé 2013 Ausschnitte daraus in ihrem Song „***Flawless“ verwendete. 🎤💫 \nDie Veranstaltung startet um 16:00 Uhr\, der halbstündige TED Talk wird um 16:30 Uhr gezeigt – in englischer Sprache mit deutschen Untertiteln. (Wichtig: Es ist kein Live-Vortrag\, sondern ein Video über den Beamer.) \nIm Anschluss gibt es Raum für Austausch und Diskussion über das\, was wir gehört und gesehen haben. 💬🤝 \nWer ist eingeladen? Alle\, die sich für das Thema interessieren – auch diejenigen\, die sich bisher nicht viel mit Feminismus auseinander gesetzt haben und nach neuen Perspektiven suchen. 🌍 \nKommt vorbei\, lasst uns ins Gespräch kommen und den Austausch fördern! ✨
URL:https://diffus.space/event/watch-talk-we-should-all-be-feminists/
LOCATION:diffus.space\, Viktoriastraße 18\, Aachen\, 52066\, Germany
ATTACH;FMTTYPE=image/jpeg:https://diffus.space/wp-content/uploads/2024/11/Chimamanda-Ngozi-adichie-we-should-all-be-feminists.jpg
ORGANIZER;CN="diffus.space e.V.":MAILTO:info@diffus.space
END:VEVENT
END:VCALENDAR