BEGIN:VCALENDAR
VERSION:2.0
PRODID:-//diffus.space - ECPv6.15.12.2//NONSGML v1.0//EN
CALSCALE:GREGORIAN
METHOD:PUBLISH
X-ORIGINAL-URL:https://diffus.space
X-WR-CALDESC:Veranstaltungen für diffus.space
REFRESH-INTERVAL;VALUE=DURATION:PT1H
X-Robots-Tag:noindex
X-PUBLISHED-TTL:PT1H
BEGIN:VTIMEZONE
TZID:Europe/Berlin
BEGIN:DAYLIGHT
TZOFFSETFROM:+0100
TZOFFSETTO:+0200
TZNAME:CEST
DTSTART:20240331T010000
END:DAYLIGHT
BEGIN:STANDARD
TZOFFSETFROM:+0200
TZOFFSETTO:+0100
TZNAME:CET
DTSTART:20241027T010000
END:STANDARD
BEGIN:DAYLIGHT
TZOFFSETFROM:+0100
TZOFFSETTO:+0200
TZNAME:CEST
DTSTART:20250330T010000
END:DAYLIGHT
BEGIN:STANDARD
TZOFFSETFROM:+0200
TZOFFSETTO:+0100
TZNAME:CET
DTSTART:20251026T010000
END:STANDARD
BEGIN:DAYLIGHT
TZOFFSETFROM:+0100
TZOFFSETTO:+0200
TZNAME:CEST
DTSTART:20260329T010000
END:DAYLIGHT
BEGIN:STANDARD
TZOFFSETFROM:+0200
TZOFFSETTO:+0100
TZNAME:CET
DTSTART:20261025T010000
END:STANDARD
END:VTIMEZONE
BEGIN:VEVENT
DTSTART;TZID=Europe/Berlin:20250927T150000
DTEND;TZID=Europe/Berlin:20250928T020000
DTSTAMP:20260425T122140
CREATED:20250908T130624Z
LAST-MODIFIED:20250908T130624Z
UID:233-1758985200-1759024800@diffus.space
SUMMARY:Einweihungsfest im neuen Raum
DESCRIPTION: Finally – Am 27.09 feiern wir unsere Einweihungsparty in der neuen Location  \n– Ab 15 Uhr öffnen wir die Tore in der Viktoriastraße 18\, um 17 Uhr starten die Live Acts – \nWir sind super hyped auf das über fette Lineup mit:\n Trust the Moon – Intimate Songwriting @moerne @david_kisser \n Misfire – Guitar\, Drums\, Bass\n After Cooking – Garbage meets Techno @after_cooking\n Inti Avina – Ethnice Techno @inti.avina \nAb 23 Uhr legen für euch auf:\n no fun never – disco 2 house @no_fun_never\n dj fritte – groovy techno & ulkige sounds\n diffus resident tiffi – diffuser techno \nDazu gibt’s\n frisch gebackene Waffeln von Fridays for Future Aachen\n Cocktails von Recht auf Stadt\n Kalte Getränke von der FAU Aachen \nEintritt ist wie immer frei\, kommt vorbei\, bringt Leute mit!\n neue Location\, neues Kapitel\, gleiche Liebe  \n Danke an @crehail_ für das schöne Design
URL:https://diffus.space/event/einweihungsfest-im-neuen-raum/
LOCATION:Viki\, Viktoriastraße 18\, Aachen\, 52066\, Germany
ATTACH;FMTTYPE=image/jpeg:https://diffus.space/wp-content/uploads/2025/09/5316742425651315732.jpg
ORGANIZER;CN="diffus.space e.V.":MAILTO:info@diffus.space
END:VEVENT
END:VCALENDAR