BEGIN:VCALENDAR
VERSION:2.0
PRODID:-//diffus.space - ECPv6.15.12.2//NONSGML v1.0//EN
CALSCALE:GREGORIAN
METHOD:PUBLISH
X-WR-CALNAME:diffus.space
X-ORIGINAL-URL:https://diffus.space
X-WR-CALDESC:Veranstaltungen für diffus.space
REFRESH-INTERVAL;VALUE=DURATION:PT1H
X-Robots-Tag:noindex
X-PUBLISHED-TTL:PT1H
BEGIN:VTIMEZONE
TZID:UTC
BEGIN:STANDARD
TZOFFSETFROM:+0000
TZOFFSETTO:+0000
TZNAME:UTC
DTSTART:20240101T000000
END:STANDARD
END:VTIMEZONE
BEGIN:VEVENT
DTSTART;TZID=UTC:20250202T160000
DTEND;TZID=UTC:20250202T190000
DTSTAMP:20260425T025205
CREATED:20250126T100359Z
LAST-MODIFIED:20250126T101631Z
UID:142-1738512000-1738522800@diffus.space
SUMMARY:Watch & Talk: Longtermismus
DESCRIPTION:A(I)pokalypse oder: Wie Silicon Valley Gott spielen will 🛰️ \nWir möchten gerne mit euch über das Zusammenspiel von genereller künstlicher Intelligenz (AGI)\, Kapitalismus und Autokratie diskutieren. Dazu laden wir ein mit uns zusammen einen Vortrag zum Thema „Longtermismus – Der „Geist“ des digitalen Kapitalismus“ von Max F. J. Schnetker vom 38C3 zu schauen. \nDer Autor des Buches „Transhumanistische Mythologie – Rechte Utopien einer technologischen Erlösung durch künstliche Intelligenz“ zieht in dem halbstündigen Vortrag einige Klassiker der Soziologie heran\, um seine Analyse transhumanistischer Ideologie vorzustellen. \nDie Veranstaltung startet um 16 Uhr der Vortrag startet um 16:30 Uhr. Der Vortrag ist auf Deutsch. (Wichtig\, es ist kein Live-Vortrag\, sondern ein Video über den Beamer) \nIm Anschluss gibt es Raum für Austausch und Diskussion über das\, was wir gesehen und gehört haben. 💬🤝 \nWer ist eingeladen? Alle\, die sich für die Themen KI\, soziale Gerechtigkeit interessieren oder mit den Auswirkungen von künstlicher Intelligenz auf unsere Gesellschaft auseinandersetzen wollen. 🤖🌍 \nLasst uns zusammen den Maschinen huldigen 🕯️ \nDer Vortrag wurde im Dezember 2024 auf dem 38. Chaos Communication Congress gehalten\, Interessierte finden die Aufzeichnung unter https://media.ccc.de/v/38c3-longtermismus-der-geist-des-digitalen-kapitalismus
URL:https://diffus.space/event/watch-talk-longtermismus/
LOCATION:diffus.space\, Viktoriastraße 18\, Aachen\, 52066\, Germany
ATTACH;FMTTYPE=image/png:https://diffus.space/wp-content/uploads/2025/01/Longterminismus.png
ORGANIZER;CN="diffus.space e.V.":MAILTO:info@diffus.space
END:VEVENT
END:VCALENDAR