BEGIN:VCALENDAR
VERSION:2.0
PRODID:-//diffus.space - ECPv6.15.12.2//NONSGML v1.0//EN
CALSCALE:GREGORIAN
METHOD:PUBLISH
X-ORIGINAL-URL:https://diffus.space
X-WR-CALDESC:Veranstaltungen für diffus.space
REFRESH-INTERVAL;VALUE=DURATION:PT1H
X-Robots-Tag:noindex
X-PUBLISHED-TTL:PT1H
BEGIN:VTIMEZONE
TZID:UTC
BEGIN:STANDARD
TZOFFSETFROM:+0000
TZOFFSETTO:+0000
TZNAME:UTC
DTSTART:20240101T000000
END:STANDARD
END:VTIMEZONE
BEGIN:VEVENT
DTSTART;TZID=UTC:20250420T193000
DTEND;TZID=UTC:20250420T213000
DTSTAMP:20260425T050126
CREATED:20250406T164006Z
LAST-MODIFIED:20250406T164006Z
UID:200-1745177400-1745184600@diffus.space
SUMMARY:Konzert: KNUD
DESCRIPTION:Im Rahmen ihrer Album Release Tour 2025 spielt das Jazz Trio KNUD ein Wohnzimmerkonzert bei uns. Das Trio besteht aus \nJona Hahn am Klavier \nKevin Hemkemeier am Kontrabass \nJonathan Schierhorn am Drumset \nIhre zeitgenössischen Jazz-Kompositionen spielen durch subtile Harmonien\, fließende Melodien und kraftvolle Rhythmen mit der Dualität von Gravitation und Schwerelosigkeit. Kommt vorbei! \nZum Reinhören: https://open.spotify.com/artist/1VyrMzo3xJxqZ5sfdWhO0Y?si=R7PoB7eNR8aSYh-uLW9VAw
URL:https://diffus.space/event/konzert-knud/
LOCATION:diffus.space\, Viktoriastraße 18\, Aachen\, 52066\, Germany
ATTACH;FMTTYPE=image/png:https://diffus.space/wp-content/uploads/2025/04/Design-ohne-Titel1.png
ORGANIZER;CN="diffus.space e.V.":MAILTO:info@diffus.space
END:VEVENT
END:VCALENDAR